BEGIN:VCALENDAR
VERSION:2.0
PRODID:-//Central Minnesota Legal Services - ECPv6.15.18//NONSGML v1.0//EN
CALSCALE:GREGORIAN
METHOD:PUBLISH
X-WR-CALNAME:Central Minnesota Legal Services
X-ORIGINAL-URL:https://centralmnlegal.org
X-WR-CALDESC:Events for Central Minnesota Legal Services
REFRESH-INTERVAL;VALUE=DURATION:PT1H
X-Robots-Tag:noindex
X-PUBLISHED-TTL:PT1H
BEGIN:VTIMEZONE
TZID:America/Chicago
BEGIN:DAYLIGHT
TZOFFSETFROM:-0600
TZOFFSETTO:-0500
TZNAME:CDT
DTSTART:20160313T080000
END:DAYLIGHT
BEGIN:STANDARD
TZOFFSETFROM:-0500
TZOFFSETTO:-0600
TZNAME:CST
DTSTART:20161106T070000
END:STANDARD
BEGIN:DAYLIGHT
TZOFFSETFROM:-0600
TZOFFSETTO:-0500
TZNAME:CDT
DTSTART:20170312T080000
END:DAYLIGHT
BEGIN:STANDARD
TZOFFSETFROM:-0500
TZOFFSETTO:-0600
TZNAME:CST
DTSTART:20171105T070000
END:STANDARD
BEGIN:DAYLIGHT
TZOFFSETFROM:-0600
TZOFFSETTO:-0500
TZNAME:CDT
DTSTART:20180311T080000
END:DAYLIGHT
BEGIN:STANDARD
TZOFFSETFROM:-0500
TZOFFSETTO:-0600
TZNAME:CST
DTSTART:20181104T070000
END:STANDARD
END:VTIMEZONE
BEGIN:VEVENT
DTSTART;TZID=America/Chicago:20171212T130000
DTEND;TZID=America/Chicago:20171212T150000
DTSTAMP:20260425T233608
CREATED:20170918T181054Z
LAST-MODIFIED:20170918T181054Z
UID:10002192-1513083600-1513090800@centralmnlegal.org
SUMMARY:Legal Presentation: Unmarried Parents\, Paternity\, Custody and Parenting Time
DESCRIPTION:Attorneys from CMLS will conduct a presentation at the Anoka County Law Library about the legal rights of unmarried parents. Topics of discussion include: \n\nPaternity\nCustody\nParenting Time\nChild Support\n\nThe attorneys may be able to meet with you after the presentation to answer your specific legal questions relating to paternity\, custody\, parenting time\, and child support. \nAn appointment is REQUIRED to meet with an attorney. Please contact the Anoka County Law Library at (763) 422-7487 to schedule an appointment.
URL:https://centralmnlegal.org/event/legal-presentation-unmarried-parents-paternity-custody-parenting-time/2017-12-12/
CATEGORIES:Presentations
END:VEVENT
BEGIN:VEVENT
DTSTART;TZID=America/Chicago:20171114T130000
DTEND;TZID=America/Chicago:20171114T150000
DTSTAMP:20260425T233608
CREATED:20170918T181054Z
LAST-MODIFIED:20170918T181054Z
UID:10002191-1510664400-1510671600@centralmnlegal.org
SUMMARY:Legal Presentation: Unmarried Parents\, Paternity\, Custody and Parenting Time
DESCRIPTION:Attorneys from CMLS will conduct a presentation at the Anoka County Law Library about the legal rights of unmarried parents. Topics of discussion include: \n\nPaternity\nCustody\nParenting Time\nChild Support\n\nThe attorneys may be able to meet with you after the presentation to answer your specific legal questions relating to paternity\, custody\, parenting time\, and child support. \nAn appointment is REQUIRED to meet with an attorney. Please contact the Anoka County Law Library at (763) 422-7487 to schedule an appointment.
URL:https://centralmnlegal.org/event/legal-presentation-unmarried-parents-paternity-custody-parenting-time/2017-11-14/
CATEGORIES:Presentations
END:VEVENT
BEGIN:VEVENT
DTSTART;TZID=America/Chicago:20171010T130000
DTEND;TZID=America/Chicago:20171010T150000
DTSTAMP:20260425T233608
CREATED:20170918T181054Z
LAST-MODIFIED:20170918T181054Z
UID:10002190-1507640400-1507647600@centralmnlegal.org
SUMMARY:Legal Presentation: Unmarried Parents\, Paternity\, Custody and Parenting Time
DESCRIPTION:Attorneys from CMLS will conduct a presentation at the Anoka County Law Library about the legal rights of unmarried parents. Topics of discussion include: \n\nPaternity\nCustody\nParenting Time\nChild Support\n\nThe attorneys may be able to meet with you after the presentation to answer your specific legal questions relating to paternity\, custody\, parenting time\, and child support. \nAn appointment is REQUIRED to meet with an attorney. Please contact the Anoka County Law Library at (763) 422-7487 to schedule an appointment.
URL:https://centralmnlegal.org/event/legal-presentation-unmarried-parents-paternity-custody-parenting-time/2017-10-10/
CATEGORIES:Presentations
END:VEVENT
END:VCALENDAR